BEGIN:VCALENDAR
VERSION:2.0
PRODID:-//hacksw/handcal//NONSGML v1.0//EN
CALSCALE:GREGORIAN
BEGIN:VEVENT
DESCRIPTION:Im dritten Schuljahr nehmen wir uns bewusst Zeit\, um uns mit unserer eigenen Spiritualität auseinanderzusetzen. Dabei begegnen wir inspirierenden Persönlichkeiten\, die uns neue Perspektiven eröffnen und zum Nachdenken anregen.&nbsp\;
DTEND:20250825T190000Z
DTSTART:20250825T062000Z
SUMMARY:Thementag "Gelebte Spiritualität"
URL;VALUE=URI:https://www.kathi.ch/event/thementag-gelebte-spiritualitaet/
LOCATION:\,  
DTSTAMP:20260422T090814Z
UID:69e88ffe71132
END:VEVENT
END:VCALENDAR