BEGIN:VCALENDAR
VERSION:2.0
PRODID:-//hacksw/handcal//NONSGML v1.0//EN
CALSCALE:GREGORIAN
BEGIN:VEVENT
DESCRIPTION:Wir wünschen allen unseren Prüflingen viel Erfolg und hoffen\, dass möglichst viele Schülerinnen ihre Ziele erreichen. An Prüfungstagen ist für die Kandidatinnen schulfrei\, ansonsten normal Schule.
DTEND:20260311T225900Z
DTSTART:20260308T230000Z
SUMMARY:Aufnahmeprüfung Kanti
URL;VALUE=URI:https://www.kathi.ch/event/aufnahmepruefung-kanti/
LOCATION:Kantonsschule Wil\, Hubstrasse 75 Wil SG
DTSTAMP:20260421T165500Z
UID:69e7abe41c790
END:VEVENT
END:VCALENDAR